BEGIN:VCALENDAR
VERSION:2.0
PRODID:-//GreatParks//greatparks.org//EN
CALSCALE:GREGORIAN
BEGIN:VEVENT
UID:92384650548@greatparks.org
DTSTAMP:20260423T180228Z
DTSTART:20260426T180000Z
DTEND:20260426T190000Z
TRANSP:OPAQUE
SUMMARY:Out in the Outdoors: Animal Artists
DESCRIPTION:<p>Embrace nature’s beauty with a supportive community of outdoor explorers! Bring your creative spirit to this session\, where you meet and paint with farm animals and native animal ambassadors. Afterward\, take a tour around the Farm to learn more about barnyard life. This group meets monthly at various Great Parks destinations.</p>\n<p><strong>Cost:</strong>&nbsp\;Free &emsp\;<strong>Age(s):</strong>&nbsp\;18+\n<br><strong>Location:</strong>&nbsp\;Winton Woods | Farm and Equestrian Center</p>
LOCATION:Farm & Equestrian Center
URL:https://reservations.greatparks.org/Info.aspx?ActivityID=9238
BEGIN:VALARM
TRIGGER:-PT30M
ACTION:DISPLAY
DESCRIPTION:Reminder
END:VALARM
END:VEVENT
END:VCALENDAR
