BEGIN:VCALENDAR
VERSION:2.0
PRODID:-//GreatParks//greatparks.org//EN
CALSCALE:GREGORIAN
BEGIN:VEVENT
UID:6631712404699630@greatparks.org
DTSTAMP:20260419T084433Z
DTSTART:20260506T140000Z
DTEND:20260506T150000Z
TRANSP:OPAQUE
SUMMARY:Nature Book Club
DESCRIPTION:<p>Turn to a new chapter of outdoor appreciation and nature inspiration! Meet fellow book enthusiasts to discuss stories that shape your understanding of the natural world. Come along for some company and conversation even if you haven’t finished the book:  The Hidden Life of Trees by Peter Wohlleben.</p>\n<p><strong>Cost:</strong>&nbsp\;Free&emsp\;<strong>Age(s):</strong>&nbsp\;18+\n<br />\n<strong>Location:</strong>&nbsp\;Sharon Woods | Sharon Center </p>
LOCATION:Sharon Woods
URL:https://reservations.greatparks.org/Info.aspx?ActivityID=663171240
BEGIN:VALARM
TRIGGER:-PT30M
ACTION:DISPLAY
DESCRIPTION:Reminder
END:VALARM
END:VEVENT
END:VCALENDAR
