BEGIN:VCALENDAR
VERSION:2.0
PRODID:-//GreatParks//greatparks.org//EN
CALSCALE:GREGORIAN
BEGIN:VEVENT
UID:6631712524699652@greatparks.org
DTSTAMP:20260419T085139Z
DTSTART:20260510T130000Z
DTEND:20260510T150000Z
TRANSP:OPAQUE
SUMMARY:Sunday Coffee Stroll: Wildflowers
DESCRIPTION:<p>Kick off your week with a pleasant hike and delicious coffee. Take a hike on the School Trail to search for blooming wildflowers.</p>\n<p><strong>Cost:</strong>&nbsp\;Free&emsp\;<strong>Age(s):</strong>&nbsp\;All ages\n<br />\n<strong>Location:</strong>&nbsp\;Sharon Woods | Sharon Center</p>
LOCATION:Sharon Woods
URL:https://reservations.greatparks.org/Info.aspx?ActivityID=663171252
BEGIN:VALARM
TRIGGER:-PT30M
ACTION:DISPLAY
DESCRIPTION:Reminder
END:VALARM
END:VEVENT
END:VCALENDAR
