BEGIN:VCALENDAR
VERSION:2.0
PRODID:-//GreatParks//greatparks.org//EN
CALSCALE:GREGORIAN
BEGIN:VEVENT
UID:6631712334690484@greatparks.org
DTSTAMP:20260422T000705Z
DTSTART:20260425T140000Z
DTEND:20260425T160000Z
TRANSP:OPAQUE
SUMMARY:Homesteading 101: Backyard Goats
DESCRIPTION:<p>Thinking of starting a homestead to generate your own milk\, meat\, or fiber? In this session\, explore the how's\, why's\, and benefits of raising goats yourself.</p>\n<p><strong>Cost:</strong>&nbsp\;$9 <strong>Age(s):</strong>&nbsp\;12+\n<br>\n<strong>Location:</strong>&nbsp\;Winton Woods | Farm &amp\; Equestrian Center</p>
LOCATION:Farm & Equestrian Center
URL:callto:+15135217275
BEGIN:VALARM
TRIGGER:-PT30M
ACTION:DISPLAY
DESCRIPTION:Reminder
END:VALARM
END:VEVENT
END:VCALENDAR
