BEGIN:VCALENDAR
VERSION:2.0
PRODID:-//GreatParks//greatparks.org//EN
CALSCALE:GREGORIAN
BEGIN:VEVENT
UID:663170254700054@greatparks.org
DTSTAMP:20260420T020129Z
DTSTART:20260420T140000Z
DTEND:20260420T160000Z
TRANSP:OPAQUE
SUMMARY:Homeschool Science: Eggstraordinary Eggs
DESCRIPTION:<p>The Farm's spring chickens have been busy laying eggs! Meet these feathered friends and perform eggs-periments to discover what makes their eggs so special. Children must be accompanied by an adult. </p>\n<p><strong>Cost:</strong>&nbsp\;$9 (register by April 18) <strong>Age(s):</strong>&nbsp\;6-12\n<br>\n<strong>Location:</strong>&nbsp\;Winton Woods | Winton Woods Farm &amp\; Equestrian Center</p>
LOCATION:Farm & Equestrian Center
URL:callto:+15135217275
BEGIN:VALARM
TRIGGER:-PT30M
ACTION:DISPLAY
DESCRIPTION:Reminder
END:VALARM
END:VEVENT
END:VCALENDAR
