BEGIN:VCALENDAR
VERSION:2.0
PRODID:-//GreatParks//greatparks.org//EN
CALSCALE:GREGORIAN
BEGIN:VEVENT
UID:663170884719130@greatparks.org
DTSTAMP:20260421T200329Z
DTSTART:20260516T223000Z
DTEND:20260517T003000Z
TRANSP:OPAQUE
SUMMARY:Campfire S'mores & Stories
DESCRIPTION:<p>What’s better than s’mores around the fire? Join a nature interpreter for a classic campfire experience complete with storytelling\, a live animal encounter and a guided sunset trail hike.   </p>\n<p><strong>Cost:</strong>&nbsp\;$7&emsp\;<strong>Age(s):</strong>&nbsp\;6+\n<br />\n<strong>Location:</strong>&nbsp\;Farbach-Werner Nature Preserve | Ampitheater\n<br />\n<strong>Recurring:</strong>&nbsp\; March 21\, May 16\, July 25 \;|&nbsp\;6:30 p.m.\n</p>
LOCATION:Farbach-Werner Nature Preserve
URL:https://reservations.greatparks.org/Info.aspx?ActivityID=66317088
BEGIN:VALARM
TRIGGER:-PT30M
ACTION:DISPLAY
DESCRIPTION:Reminder
END:VALARM
END:VEVENT
END:VCALENDAR
