BEGIN:VCALENDAR
VERSION:2.0
PRODID:-//GreatParks//greatparks.org//EN
CALSCALE:GREGORIAN
BEGIN:VEVENT
UID:6631713234721137@greatparks.org
DTSTAMP:20260422T032215Z
DTSTART:20260423T220000Z
DTEND:20260423T230000Z
TRANSP:OPAQUE
SUMMARY:Bird Feeder Craft
DESCRIPTION:<p>Make your own platform bird feeder and discover the different foods birds enjoy.</p>\n<p><strong>Cost:</strong>&nbsp\;Free <strong>Age(s):</strong>&nbsp\;10+\n<br><strong>Location:</strong>&nbsp\;Nature Center at The Summit</p>\n
LOCATION:Nature Center at The Summit
URL:https://reservations.greatparks.org/Info.aspx?ActivityID=663171323
BEGIN:VALARM
TRIGGER:-PT30M
ACTION:DISPLAY
DESCRIPTION:Reminder
END:VALARM
END:VEVENT
END:VCALENDAR
