BEGIN:VCALENDAR
VERSION:2.0
PRODID:-//GreatParks//greatparks.org//EN
CALSCALE:GREGORIAN
BEGIN:VEVENT
UID:6631713244721138@greatparks.org
DTSTAMP:20260422T135349Z
DTSTART:20260426T170000Z
DTEND:20260426T180000Z
TRANSP:OPAQUE
SUMMARY:City Nature Challenge: Wildflower Hike
DESCRIPTION:<p>Adventure into nature and discover something new! In this citizen science project\, participants are encouraged to observe and record as many species as possible to help researchers better understand local populations. Take a guided hike along the Trout Lily Trail to see which flowers are blooming and what else is in store. </p>\n<p><strong>Cost:</strong>&nbsp\;Free <strong>Age(s):</strong>&nbsp\;All ages\n<br><strong>Location:</strong>&nbsp\;Woodland Mound | Seasongood Nature Center</p>\n
LOCATION:Woodland Mound
URL:callto:+15135217275
BEGIN:VALARM
TRIGGER:-PT30M
ACTION:DISPLAY
DESCRIPTION:Reminder
END:VALARM
END:VEVENT
END:VCALENDAR
