BEGIN:VCALENDAR
VERSION:2.0
PRODID:-//GreatParks//greatparks.org//EN
CALSCALE:GREGORIAN
BEGIN:VEVENT
UID:718534721146@greatparks.org
DTSTAMP:20260422T032338Z
DTSTART:20260423T230000Z
DTEND:20260424T000000Z
TRANSP:OPAQUE
SUMMARY:Werk Rd. Walk
DESCRIPTION:<p> Join the Westwood community and a nature interpreter for a monthly walk through the gorgeous urban greenspace. Explore this soon-to-be renovated park and discover the land’s past\, present and future.</p>\n<p><strong>Cost:</strong>&nbsp\;Free <strong>Location:</strong>&nbsp\;  Werk Road Property | In front of barn\n<br>\n<strong>Recurring:</strong>\n<br>\nMarch 26\, April 23\, May 28\, June 25 &amp\; July 30 | 7 p.m.\n</p>
LOCATION:
URL:https://reservations.greatparks.org/Info.aspx?ActivityID=71853
BEGIN:VALARM
TRIGGER:-PT30M
ACTION:DISPLAY
DESCRIPTION:Reminder
END:VALARM
END:VEVENT
END:VCALENDAR
