BEGIN:VCALENDAR
VERSION:2.0
PRODID:-//GreatParks//greatparks.org//EN
CALSCALE:GREGORIAN
BEGIN:VEVENT
UID:6631713204721135@greatparks.org
DTSTAMP:20260421T195939Z
DTSTART:20260425T140000Z
DTEND:20260425T153000Z
TRANSP:OPAQUE
SUMMARY:Spring Ephemerals Walk
DESCRIPTION:<p>In this small nature preserve\, there’s so much activity happening in the woods! Discover the beauty and stories of spring wildflowers before they end their seasonal displays.  </p>\n<p><strong>Cost:</strong>&nbsp\;Free <strong>Age(s):</strong>&nbsp\;All\n<br>\n<strong>Location:</strong>&nbsp\;Farbach-Werner Nature Preserve | Ellenwood Nature Barn</p>
LOCATION:Farbach-Werner Nature Preserve
URL:https://reservations.greatparks.org/Info.aspx?ActivityID=663171320
BEGIN:VALARM
TRIGGER:-PT30M
ACTION:DISPLAY
DESCRIPTION:Reminder
END:VALARM
END:VEVENT
END:VCALENDAR
