BEGIN:VCALENDAR
VERSION:2.0
PRODID:-//GreatParks//greatparks.org//EN
CALSCALE:GREGORIAN
BEGIN:VEVENT
UID:6631712434699633@greatparks.org
DTSTAMP:20260419T084343Z
DTSTART:20260501T140000Z
DTEND:20260501T160000Z
TRANSP:OPAQUE
SUMMARY:Homeschool Science: Human & Wildlife Clashes
DESCRIPTION:<p>Explore how human and animal behavior can sometimes clash\, plus learn ways to prevent human and wildlife conflicts. Children must be accompanied by an adult.\n</p>\n<p><strong>Cost:</strong>&nbsp\;$9/student (Register by April 29) <strong>Age(s):</strong>&nbsp\;Ages 6-12 \n<br>\n<strong>Location:</strong>&nbsp\;Sharon Woods | Sharon Center</p>
LOCATION:Sharon Centre
URL:callto:+15135217275
BEGIN:VALARM
TRIGGER:-PT30M
ACTION:DISPLAY
DESCRIPTION:Reminder
END:VALARM
END:VEVENT
END:VCALENDAR
