BEGIN:VCALENDAR
VERSION:2.0
PRODID:-//GreatParks//greatparks.org//EN
CALSCALE:GREGORIAN
BEGIN:VEVENT
UID:6631713704727822@greatparks.org
DTSTAMP:20260421T195852Z
DTSTART:20260429T223000Z
DTEND:20260430T000000Z
TRANSP:OPAQUE
SUMMARY:Frog Songs
DESCRIPTION:<p>Nothing signals spring like the nightly sound of singing frogs! Can you identify who&rsquo\;s calling or the meaning of their chirps and trills? Learn about the region&rsquo\;s frogs and toads\, then take a hike to test your ears and identify the pond&rsquo\;s inhabitants.   </p>\n<p><strong>Cost:</strong>&nbsp\;Free&emsp\;<strong style="font-style: normal\; font-variant-ligatures: normal\; font-variant-caps: normal\; font-family: 'DM Sans'\, 'Helvetica Neue'\, 'Noto Sans'\, 'Liberation Sans'\, Arial\, sans-serif\, 'Apple Color Emoji'\, 'Segoe UI Emoji'\, 'Segoe UI Symbol'\, 'Noto Color Emoji'\; font-size: 16px\;">Ages:</strong><span style="font-style: normal\; font-variant-ligatures: normal\; font-variant-caps: normal\; font-weight: 300\; font-family: 'DM Sans'\, 'Helvetica Neue'\, 'Noto Sans'\, 'Liberation Sans'\, Arial\, sans-serif\, 'Apple Color Emoji'\, 'Segoe UI Emoji'\, 'Segoe UI Symbol'\, 'Noto Color Emoji'\; font-size: 16px\;">&nbsp\;8+</span><strong></strong></p>\n<p><strong>Location:</strong>&nbsp\;Farbach-Werner Nature Preserve<span style="font-style: normal\; font-variant-ligatures: normal\; font-variant-caps: normal\; font-weight: 300\; font-family: 'DM Sans'\, 'Helvetica Neue'\, 'Noto Sans'\, 'Liberation Sans'\, Arial\, sans-serif\, 'Apple Color Emoji'\, 'Segoe UI Emoji'\, 'Segoe UI Symbol'\, 'Noto Color Emoji'\; font-size: 16px\;">| Ellenwood Barn</span></p>
LOCATION:Farbach-Werner Nature Preserve
URL:https://reservations.greatparks.org/Info.aspx?ActivityID=663171370
BEGIN:VALARM
TRIGGER:-PT30M
ACTION:DISPLAY
DESCRIPTION:Reminder
END:VALARM
END:VEVENT
END:VCALENDAR
