BEGIN:VCALENDAR
VERSION:2.0
PRODID:-//GreatParks//greatparks.org//EN
CALSCALE:GREGORIAN
BEGIN:VEVENT
UID:6631713724727848@greatparks.org
DTSTAMP:20260421T195728Z
DTSTART:20260527T150000Z
DTEND:20260527T190000Z
TRANSP:OPAQUE
SUMMARY:Wildlife Weeks
DESCRIPTION:<p> Hop to Farbach-Werner Nature Preserve to learn all about local wildlife through animal encounters\, hands-on activities and self-guided trail walks. Each week features a new theme\, including amphibians\, reptiles\, birds of prey and more! Pre-registration is available online starting May 1 and walk-in registration will be available on site during the program. This is a drop-in style program. Participants may arrive and join at any point during the scheduled time.</p>\n<p><strong>Cost:</strong>&nbsp\;$2&emsp\;<strong>Age(s):</strong>&nbsp\;All<br />\n<strong>Location:</strong>&nbsp\;Farbach-Werner Nature Preserve |Ellenwood Nature Barn</p>\n<p><strong style="font-size: 1rem\;">Recurring:</strong></p>\n<p>May 27 &ndash\; 30 |&nbsp\;11 a.m. - 3 p.m.&nbsp\;|&nbsp\;Frogs\n<br />\nJune&nbsp\; 3 - 5 |&nbsp\;11 a.m. - 3 p.m.&nbsp\;|&nbsp\;Nocturnal Life\n<br />\nJune 17 &ndash\; 20 |&nbsp\;11 a.m. - 3 p.m.&nbsp\;|&nbsp\;Snakes\n<br />\nJune 24 - 27 |&nbsp\;11 a.m. - 3 p.m.&nbsp\;|&nbsp\;Turtles\n<br />\nJuly 1 - 4 |&nbsp\;11 a.m. - 3 p.m.&nbsp\;|&nbsp\;Raptors </p>
LOCATION:Farbach-Werner Nature Preserve
URL:https://reservations.greatparks.org/Info.aspx?ActivityID=663171372
BEGIN:VALARM
TRIGGER:-PT30M
ACTION:DISPLAY
DESCRIPTION:Reminder
END:VALARM
END:VEVENT
END:VCALENDAR
