BEGIN:VCALENDAR
VERSION:2.0
PRODID:-//GreatParks//greatparks.org//EN
CALSCALE:GREGORIAN
BEGIN:VEVENT
UID:6631713734727872@greatparks.org
DTSTAMP:20260421T200739Z
DTSTART:20260528T143000Z
DTEND:20260528T150000Z
TRANSP:OPAQUE
SUMMARY:Wild Stories
DESCRIPTION:<p> In each session\, little adventurers enjoy songs\, stories and hands-on activities focused on different native wildlife species. Afterward\, check out a themed exhibit ($2 fee) for more fun!\n</p>\n<p><strong>Cost:</strong>&nbsp\;Free&emsp\;<strong>Age(s):</strong>&nbsp\;3-6<br />\n<strong>Location:</strong>&nbsp\;Farbach-Werner Nature Preserve | Ellenwood Nature Barn\n<br />\n<strong>Recurring:</strong>\n<br />\nMay 28 |&nbsp\;Frogs\n<br />\nJune 4 | Nature at Night<br />\nJune 18 |&nbsp\;Snakes\n<br />\nJune 25 |&nbsp\;Turtles\n<br />\nJuly 2 |&nbsp\;Raptors </p>
LOCATION:Farbach-Werner Nature Preserve
URL:https://reservations.greatparks.org/Info.aspx?ActivityID=663171373
BEGIN:VALARM
TRIGGER:-PT30M
ACTION:DISPLAY
DESCRIPTION:Reminder
END:VALARM
END:VEVENT
END:VCALENDAR
