BEGIN:VCALENDAR
VERSION:2.0
PRODID:-//GreatParks//greatparks.org//EN
CALSCALE:GREGORIAN
BEGIN:VEVENT
UID:6631713834727925@greatparks.org
DTSTAMP:20260419T084752Z
DTSTART:20260502T160000Z
DTEND:20260502T170000Z
TRANSP:OPAQUE
SUMMARY:Roly-Poly Races
DESCRIPTION:<p>Think you can track down the fastest isopod? Learn all about roly-polies\, also known as pill bugs\, and search for a winning champion!</p>\n<p><strong>Cost:</strong>&nbsp\;Free&emsp\;<strong>Age(s):</strong>&nbsp\;2-12\n<br><strong>Location:</strong>&nbsp\;Sharon Woods | Sharon Center</p>\n
LOCATION:Sharon Woods
URL:https://reservations.greatparks.org/Info.aspx?ActivityID=663171383
BEGIN:VALARM
TRIGGER:-PT30M
ACTION:DISPLAY
DESCRIPTION:Reminder
END:VALARM
END:VEVENT
END:VCALENDAR
