BEGIN:VCALENDAR
VERSION:2.0
PRODID:-//GreatParks//greatparks.org//EN
CALSCALE:GREGORIAN
BEGIN:VEVENT
UID:6631713804727922@greatparks.org
DTSTAMP:20260422T135518Z
DTSTART:20260502T003000Z
DTEND:20260502T020000Z
TRANSP:OPAQUE
SUMMARY:Night Hike
DESCRIPTION:<p>Gaze at the stars while exploring the park in search of nocturnal wildlife. This hike covers approximately 2.5 miles of paved and unpaved trails.     </p>\n<p><strong>Cost:</strong>&nbsp\;Free &emsp\;<strong>Age(s):</strong>&nbsp\;All ages\n<br />\n<strong>Location:</strong>&nbsp\;Woodland Mound | Seasongood Nature Center\n</p>
LOCATION:Woodland Mound
URL:https://reservations.greatparks.org/Info.aspx?ActivityID=663171380
BEGIN:VALARM
TRIGGER:-PT30M
ACTION:DISPLAY
DESCRIPTION:Reminder
END:VALARM
END:VEVENT
END:VCALENDAR
