BEGIN:VCALENDAR
VERSION:2.0
PRODID:-//GreatParks//greatparks.org//EN
CALSCALE:GREGORIAN
BEGIN:VEVENT
UID:6631713844727926@greatparks.org
DTSTAMP:20260422T134713Z
DTSTART:20260503T120000Z
DTEND:20260503T140000Z
TRANSP:OPAQUE
SUMMARY:Bird Walk
DESCRIPTION:<p>Take a walk over paved and unpaved trails through hotspots for migratory and breeding birds. Search for warblers\, tanagers\, orioles and more. Bring your own binoculars or borrow some from Great Parks.</p>\n<p><strong>Cost:</strong>&nbsp\;Free&emsp\;<strong>Age(s):</strong>&nbsp\;All ages\n<br><strong>Location:</strong>&nbsp\;Woodland Mound | Seasongood Nature Center</p>\n
LOCATION:Woodland Mound
URL:https://reservations.greatparks.org/Info.aspx?ActivityID=663171384
BEGIN:VALARM
TRIGGER:-PT30M
ACTION:DISPLAY
DESCRIPTION:Reminder
END:VALARM
END:VEVENT
END:VCALENDAR
