BEGIN:VCALENDAR
VERSION:2.0
PRODID:-//GreatParks//greatparks.org//EN
CALSCALE:GREGORIAN
BEGIN:VEVENT
UID:6631713824727938@greatparks.org
DTSTAMP:20260422T134830Z
DTSTART:20260502T140000Z
DTEND:20260502T150000Z
TRANSP:OPAQUE
SUMMARY:Fairy Homes & Flower Crafts
DESCRIPTION:<p>Find and use natural materials (plus some craft supplies) to make an imaginative\, tiny home for fairies living in our garden or your own. Enjoy additional flower crafts in celebration of May Day\, a European holiday marking the beginning of summer.</p>\n<p><strong>Cost:</strong>&nbsp\;Free&emsp\;<strong>Age(s):</strong>&nbsp\;5-11\n<br><strong>Location:</strong>&nbsp\;Woodland Mound | Seasongood Nature Center</p>\n
LOCATION:Woodland Mound
URL:https://reservations.greatparks.org/Info.aspx?ActivityID=663171382
BEGIN:VALARM
TRIGGER:-PT30M
ACTION:DISPLAY
DESCRIPTION:Reminder
END:VALARM
END:VEVENT
END:VCALENDAR
