BEGIN:VCALENDAR
VERSION:2.0
PRODID:-//GreatParks//greatparks.org//EN
CALSCALE:GREGORIAN
BEGIN:VEVENT
UID:663170724728008@greatparks.org
DTSTAMP:20260419T085139Z
DTSTART:20260509T130000Z
DTEND:20260509T180000Z
TRANSP:OPAQUE
SUMMARY:Great Parks Pollinator Festival
DESCRIPTION:<p>This community celebration of precious pollinators is buzzing with family-friendly fun! Explore the region’s industrious bloom boosters\, their vital role in a balanced ecosystem and how native plant species contribute to their success. Enjoy free live music\, peruse local vendor and exhibitor booths and visit the immersive butterfly garden.</p>\n<p><strong>Cost:</strong>&nbsp\;Free entry! &emsp\;<strong>Age(s):</strong>&nbsp\;All ages\n<br />\n<strong>Location:</strong>&nbsp\;Miami Whitewater Forest | Harbor</p>\n<p>Lace up your running shoes before the festival for the second annual Pollinator 5K. The family-friendly run/walk begins at 9 a.m. along the scenic paved trails of Miami Whitewater Forest. Racers receive a custom race medal\, t-shirt\, native seeds packet from Shaker Trace Nursery and Great Parks swag.<strong><span style="text-decoration: underline\;"><a href="https://runsignup.com/Race/OH/Harrison/GreatParksPollinator5k"> \n<br> Learn more and register</a></span></strong>.</p>
LOCATION:Sharon Woods
URL:https://reservations.greatparks.org/Info.aspx?ActivityID=66317072
BEGIN:VALARM
TRIGGER:-PT30M
ACTION:DISPLAY
DESCRIPTION:Reminder
END:VALARM
END:VEVENT
END:VCALENDAR
