BEGIN:VCALENDAR
VERSION:2.0
PRODID:-//GreatParks//greatparks.org//EN
CALSCALE:GREGORIAN
BEGIN:VEVENT
UID:1600014728054@greatparks.org
DTSTAMP:20260423T025725Z
DTSTART:20260602T220000Z
DTEND:20260602T230000Z
TRANSP:OPAQUE
SUMMARY:Men's Tuesday Softball League
DESCRIPTION:<p>Registration for our Men's Tuesday softball league is now open.\nSummer tentative start date is June 2nd. Registration for Summer closes May 23rd.\n
LOCATION:Triple Creek
URL:https://reservations.greatparks.org/Info.aspx?ActivityID=160001
BEGIN:VALARM
TRIGGER:-PT30M
ACTION:DISPLAY
DESCRIPTION:Reminder
END:VALARM
END:VEVENT
END:VCALENDAR
