BEGIN:VCALENDAR
VERSION:2.0
PRODID:-//GreatParks//greatparks.org//EN
CALSCALE:GREGORIAN
BEGIN:VEVENT
UID:1600064728055@greatparks.org
DTSTAMP:20260423T025411Z
DTSTART:20260614T220000Z
DTEND:20260614T230000Z
TRANSP:OPAQUE
SUMMARY:Co-ed Sunday Softball League
DESCRIPTION:<p><p>Registration for our Co-Ed Sunday softball league is now open.\nSummer tentative start date is June 14th. Registration for Summer closes May 31st.\n
LOCATION:Triple Creek
URL:https://reservations.greatparks.org/Info.aspx?ActivityID=160006
BEGIN:VALARM
TRIGGER:-PT30M
ACTION:DISPLAY
DESCRIPTION:Reminder
END:VALARM
END:VEVENT
END:VCALENDAR
