BEGIN:VCALENDAR
VERSION:2.0
PRODID:-//GreatParks//greatparks.org//EN
CALSCALE:GREGORIAN
BEGIN:VEVENT
UID:1600084728056@greatparks.org
DTSTAMP:20260423T025725Z
DTSTART:20260601T220000Z
DTEND:20260601T230000Z
TRANSP:OPAQUE
SUMMARY:Women's Monday Softball League
DESCRIPTION:<p><p>Registration for our Women's Monday softball league is now open.\nSummer tentative start date is June 1st. Registration for Summer closes May 24th.
LOCATION:Triple Creek
URL:https://reservations.greatparks.org/Info.aspx?ActivityID=160008
BEGIN:VALARM
TRIGGER:-PT30M
ACTION:DISPLAY
DESCRIPTION:Reminder
END:VALARM
END:VEVENT
END:VCALENDAR
