BEGIN:VCALENDAR
VERSION:2.0
PRODID:-//GreatParks//greatparks.org//EN
CALSCALE:GREGORIAN
BEGIN:VEVENT
UID:1600034728059@greatparks.org
DTSTAMP:20260423T025411Z
DTSTART:20260614T220000Z
DTEND:20260614T230000Z
TRANSP:OPAQUE
SUMMARY:Men's Sunday Softball League
DESCRIPTION:<p><p>Registration for our Men's Sunday softball league is now open.\nSummer tentative start date is June 14th. Registration for Spring closes May 31st.
LOCATION:Triple Creek
URL:https://reservations.greatparks.org/Info.aspx?ActivityID=160003
BEGIN:VALARM
TRIGGER:-PT30M
ACTION:DISPLAY
DESCRIPTION:Reminder
END:VALARM
END:VEVENT
END:VCALENDAR
