BEGIN:VCALENDAR
VERSION:2.0
PRODID:-//GreatParks//greatparks.org//EN
CALSCALE:GREGORIAN
BEGIN:VEVENT
UID:6631710034728084@greatparks.org
DTSTAMP:20260424T025345Z
DTSTART:20260425T110000Z
DTEND:20260425T160000Z
TRANSP:OPAQUE
SUMMARY:Great Parks Fishing Tournaments: Bass Series
DESCRIPTION:<p>Join us for Bass Fishing Tournaments! Teams of 1 or 2 anglers will compete to catch the highest weight with a 5 fish limit. Tournaments are open to anglers of all ages and experience levels. Full rules and prize breakdowns can be found in the tournament rules. Pre-registration is not required but recommended and will close the day before each tournament. Registration on site begins 1 hour before the tournament.</p>\n<p>\n</p>\n<p><strong>Cost:</strong>&nbsp\;$70/Team\n<br>\n<strong>Recurring:</strong>\n<br>\nApril 25 | 7 a.m. - noon | Miami Whitewater Forest\n<br>\nMay 17 | 7 a.m. - noon | Winton Woods\n<br>\nJune 7 | 7 a.m. - noon | Miami Whitewater Forest\n<br>\nJune 20 | 7 a.m. - noon | Winton Woods&nbsp\;<br>\n*Please note: for the safely of the participants\, tournaments may be canceled if the lake floods or there is inclement weather.\n</p>
LOCATION:
URL:callto:+15135217275
BEGIN:VALARM
TRIGGER:-PT30M
ACTION:DISPLAY
DESCRIPTION:Reminder
END:VALARM
END:VEVENT
END:VCALENDAR
